BEGIN:VCALENDAR
VERSION:2.0
BEGIN:VEVENT
DTSTART;TZID=US/Eastern:20101015T160000
DTEND;TZID=US/Eastern:20101015T170000
SUMMARY:Patent and Tech Transfer Primer -- Drs. Christopher Linder, Gennaro Gama, Mr. Zameer Sheikh
DESCRIPTION:. The talk, presented by Drs Christopher Linder (Thomas Kayden), Gennaro Gama (UGARF) and Mr. Zameer Sheikh (UGARF) will provide the audience with a view of the patenting and licensing process, and of the need for specific agreements before collaboration with outside parties can commence and before materials (chemicals, biologic materials, data, etc.) can be shared in/out of the university.
LOCATION:Riverbend Research South Laboratory Auditorium
END:VEVENT
END:VCALENDAR