BEGIN:VCALENDAR
VERSION:2.0
BEGIN:VEVENT
DTSTART;TZID=US/Eastern:20101012T123000
DTEND;TZID=US/Eastern:20101012T133000
SUMMARY:Thermodynamics of Magnetic Systems from First Principles -- Markus Eisenbach
DESCRIPTION:CSP Lunch Seminar. 
LOCATION:CSP Conference Room (322)
END:VEVENT
END:VCALENDAR