BEGIN:VCALENDAR
VERSION:2.0
BEGIN:VEVENT
DTSTART;TZID=US/Eastern:20101005T123000
DTEND;TZID=US/Eastern:20101005T133000
SUMMARY:Random number generators and SSE realization -- Meng Meng
DESCRIPTION:CSP Lunch Seminar. 
LOCATION:CSP Conference Room (322)
END:VEVENT
END:VCALENDAR