BEGIN:VCALENDAR
VERSION:2.0
BEGIN:VEVENT
DTSTART;TZID=US/Eastern:20100928T123000
DTEND;TZID=US/Eastern:20100928T133000
SUMMARY:Study of Vapor Deposition Polymerization Growth Model -- Sairam Tangirala
DESCRIPTION:CSP Lunch Seminar. 
LOCATION:CSP Conference Room (322)
END:VEVENT
END:VCALENDAR