BEGIN:VCALENDAR
VERSION:2.0
BEGIN:VEVENT
DTSTART;TZID=US/Eastern:20100921T123000
DTEND;TZID=US/Eastern:20100921T133000
SUMMARY:Theory and Application of Environment-Sensitive Fluorescent Molecular Rotors -- Dr. Mark Haidekker
DESCRIPTION:CSP Lunch Seminar. 
LOCATION:CSP Conference Room (322)
END:VEVENT
END:VCALENDAR