BEGIN:VCALENDAR
VERSION:2.0
BEGIN:VEVENT
DTSTART;TZID=US/Eastern:20100914T123000
DTEND;TZID=US/Eastern:20100914T133000
SUMMARY:Using RCC machines:  Shell, Compilers and Running Jobs -- Shan-ho Tsai
DESCRIPTION:CSP Lunch Seminar. 
LOCATION:CSP Conference Room (322)
END:VEVENT
END:VCALENDAR