BEGIN:VCALENDAR
VERSION:2.0
BEGIN:VEVENT
DTSTART;TZID=US/Eastern:20100903T160000
DTEND;TZID=US/Eastern:20100903T170000
SUMMARY:Nano-Carbon: Fundamental Exploration and Technological Development -- Prof. Ya-Ping Sun
DESCRIPTION:NanoSEC Seminar. Nanoscale carbon materials, including fullerenes, carbon nanotubes, graphene nanosheets, and small carbon nanoparticles, have interesting and/or unique properties. We have been studying these nanomaterials, from fullerene conjugates with anticancer drugs and bulkseparated metallic/semiconducting single-walled carbon nanotubes for electrical/electronic materials and applications to more recently graphene nanosheets for thermal and mechanical nanocomposites and carbon-based photoluminescent nanoparticles (&ldquo;carbon dots&rdquo;) as effective imaging agents. In this talk, some interesting and representative results from our research will be highlighted.
LOCATION:Riverbend Research South Laboratory Auditorium
END:VEVENT
END:VCALENDAR