BEGIN:VCALENDAR
VERSION:2.0
BEGIN:VEVENT
DTSTART;TZID=US/Eastern:20110303T160000
DTEND;TZID=US/Eastern:20110303T170000
SUMMARY:Semiconductor and graphene devices for quantum information processing  -- Dr. Pawel Hawrylak
DESCRIPTION:Departmental Colloquium. Quantum information processing requires our ability to design, build and control  devices at the quantum level. I will review our recent work in this direction using elementary building blocks: single electron, single spin, single exciton and single photon. Examples will cover lateral semiconductor and graphene quantum dots as quantum circuits based on electron spin and self-assembled quantum dots for single and entangled photon sources.
LOCATION:Physics 202
END:VEVENT
END:VCALENDAR