BEGIN:VCALENDAR
VERSION:2.0
BEGIN:VEVENT
DTSTART;TZID=US/Eastern:20221101T124500
DTEND;TZID=US/Eastern:20221101T134500
SUMMARY:First-Principles Calculations of Minimally Twisted MoSe2/WSe2 Bilayers -- Madeleine Phillips
DESCRIPTION:CSP Lunch Seminar. 
LOCATION:Zoom Meeting
END:VEVENT
END:VCALENDAR