BEGIN:VCALENDAR
VERSION:2.0
BEGIN:VEVENT
DTSTART;TZID=US/Eastern:20221025T124500
DTEND;TZID=US/Eastern:20221025T134500
SUMMARY:Thermodynamic studies of oxygen vacancies in pure and doped SnO2 surfaces -- Nima Karamitari
DESCRIPTION:CSP Lunch Seminar. 
LOCATION:Zoom Meeting
END:VEVENT
END:VCALENDAR