BEGIN:VCALENDAR
VERSION:2.0
BEGIN:VEVENT
DTSTART;TZID=US/Eastern:20221006T155500
DTEND;TZID=US/Eastern:20221006T165500
SUMMARY:Nanophotonics for enhanced sensing and spectroscopy: towards point-of-care devices -- Dr. Andreas Tittl
DESCRIPTION:Departmental Colloquium. Nanotechnology and specifically nanophotonics have been at the forefront of biosensor development because they promise the integration of bulky analytical equipment into ultrasmall footprints. This size reduction makes nanophotonic approaches ideal for transitioning traditional sensing and spectroscopy concepts towards the point-of-care, enabling the delivery of rapid diagnostic results, and contributing to improved patient outcomes. In my talk, I will introduce several examples of such nanophotonics-based sensors and highlight how they can provide conceptual advances and improved performance for biomedical detection, covering a wide range of applications from lipid membrane and vesicular processes to the identification of antibodies and biomarkers for disease.
LOCATION:Zoom Meeting
END:VEVENT
END:VCALENDAR