BEGIN:VCALENDAR
VERSION:2.0
BEGIN:VEVENT
DTSTART;TZID=US/Eastern:20221026T100000
DTEND;TZID=US/Eastern:20221026T110000
SUMMARY:2022 Graduate Recruitment Event -- 
DESCRIPTION:Graduate Recruitment Event. Considering to join the Physics & Astronomy Graduate Program at UGA in 2023? On October 26th at 10:00 am, our department organizes an informal online event, where we provide information on our PhD and MS programs, and how great life is at UGA and in Athens, GA. We'll also be happy to answer your questions during the event.
Click here to register for the event.
LOCATION:Zoom Meeting
END:VEVENT
END:VCALENDAR