BEGIN:VCALENDAR
VERSION:2.0
BEGIN:VEVENT
DTSTART;TZID=US/Eastern:20220920T124500
DTEND;TZID=US/Eastern:20220920T134500
SUMMARY:Planet Formation in the Regime of Self-Gravitating Disk -- Hans Baehr
DESCRIPTION:CSP Lunch Seminar. 
LOCATION:Zoom Meeting
END:VEVENT
END:VCALENDAR