BEGIN:VCALENDAR
VERSION:2.0
BEGIN:VEVENT
DTSTART;TZID=US/Eastern:20220913T124500
DTEND;TZID=US/Eastern:20220913T134500
SUMMARY:Monte Carlo Simulations and Ground States of Semiflexible Polymers -- Dilimulati Aierken
DESCRIPTION:CSP Lunch Seminar. 
LOCATION:Zoom Meeting
END:VEVENT
END:VCALENDAR