BEGIN:VCALENDAR
VERSION:2.0
BEGIN:VEVENT
DTSTART;TZID=US/Eastern:20220901T155500
DTEND;TZID=US/Eastern:20220901T165500
SUMMARY:Random Language Model -- Dr. Eric DeGiuli
DESCRIPTION:Departmental Colloquium. Many complex generative systems use languages to create structured objects. We consider a model of random languages, defined by weighted context-free grammars. As the distribution of grammar weights broadens, a transition is found from a random phase, in which sentences are indistinguishable from noise, to an organized phase in which nontrivial information is carried. This marks the emergence of deep structure in the language, and can be understood by a competition between energy and entropy.
Note: no background in linguistics will be assumed.
LOCATION:Zoom Meeting
END:VEVENT
END:VCALENDAR