BEGIN:VCALENDAR
VERSION:2.0
BEGIN:VEVENT
DTSTART;TZID=US/Eastern:20220830T124500
DTEND;TZID=US/Eastern:20220830T134500
SUMMARY:CSP Computing Resources -- Michael Caplinger and Jeff Deroshia(1), Shan-Ho Tsai(2)
DESCRIPTION:CSP Lunch Seminar. 
LOCATION:Zoom Meeting
END:VEVENT
END:VCALENDAR