BEGIN:VCALENDAR
VERSION:2.0
BEGIN:VEVENT
DTSTART;TZID=US/Eastern:20220817T155500
DTEND;TZID=US/Eastern:20220817T165500
SUMMARY:Gravitational Instabilities in Protoplanetary Discs: A Vanishing Act -- Sahl Rowther
DESCRIPTION:Departmental Colloquium. In their youth, protoplanetary discs are expected to be massive and self-gravitating, which results in non-axisymmetric spiral structures. However recent observations of young protoplanetary discs with ALMA have revealed that discs with large-scale spiral structure are rarely observed in the midplane. Instead, axisymmetric discs with some also having ring & gap structures are more commonly observed. In the first part of the talk I will present our results of planet-disc interactions in gravitationally unstable (GI) discs. In the second half I will show our recent results of warped GI discs. Consideration of complex processes such as these has important implications on observations of protoplanetary as it shows how evolution of GI discs can be altered, potentially resolving the discrepancy between theory and observations.
LOCATION:Physics Auditorium (202) and Zoom
END:VEVENT
END:VCALENDAR