BEGIN:VCALENDAR
VERSION:2.0
BEGIN:VEVENT
DTSTART;TZID=US/Eastern:20220428T155500
DTEND;TZID=US/Eastern:20220428T165500
SUMMARY:Space Telescopes for Exoplanet Science -- Travis Barman
DESCRIPTION:Special Colloquium. I will introduce two new space telescopes concepts that can observe exoplanet systems across ultraviolet wavelengths. The first is SPARCS (Star-Planet Activity Research CubeSat), hopefully launching next year, and the second is UV-SCOPE (Ultraviolet Spectroscopic Characterization of Planets and their Environments) which is currently under review within NASA&rsquo;s Medium-class Explorer program. Both SPARCS and UV-SCOPE are driven by the need to better understand the current and past UV exposure experienced by exoplanets and how this exposure influences the demographics and habitability of small exoplanets. Both missions will also improve our understanding of the UV history of M and K stars (the most likely hosts of potentially habitable worlds) as well as improve our understanding of two important exoplanet atmospheric phenomena --- cloud formation and atmospheric escape.
LOCATION:Physics Auditorium (202) and Zoom
END:VEVENT
END:VCALENDAR