BEGIN:VCALENDAR
VERSION:2.0
BEGIN:VEVENT
DTSTART;TZID=US/Eastern:20220412T124500
DTEND;TZID=US/Eastern:20220412T134500
SUMMARY:First principles investigations of Fe-based dopant defect complexes in KNbO3 -- Eric Suter
DESCRIPTION:CSP Lunch Seminar. 
LOCATION:Zoom Meeting
END:VEVENT
END:VCALENDAR