BEGIN:VCALENDAR
VERSION:2.0
BEGIN:VEVENT
DTSTART;TZID=US/Eastern:20220329T124500
DTEND;TZID=US/Eastern:20220329T134500
SUMMARY:Simulating stellar core collapse -- Carla Frohlich, Professor of Physics
DESCRIPTION:CSP Lunch Seminar. 
LOCATION:Zoom Meeting
END:VEVENT
END:VCALENDAR