BEGIN:VCALENDAR
VERSION:2.0
BEGIN:VEVENT
DTSTART;TZID=US/Eastern:20220322T124500
DTEND;TZID=US/Eastern:20220322T134500
SUMMARY:"Coupling Lattice Boltzmann and Molecular Dynamics: A Versatile Tool for the Study of Soft-Matter Hydrodynamics -- Burkhard Duenweg
DESCRIPTION:CSP Lunch Seminar. 
LOCATION:Zoom Meeting
END:VEVENT
END:VCALENDAR