BEGIN:VCALENDAR
VERSION:2.0
BEGIN:VEVENT
DTSTART;TZID=US/Eastern:20220315T124500
DTEND;TZID=US/Eastern:20220315T134500
SUMMARY:Accreting black hole binary systems: hydrodynamics on GPUs -- Jonathan Zrake
DESCRIPTION:CSP Lunch Seminar. 
LOCATION:Zoom Meeting
END:VEVENT
END:VCALENDAR