BEGIN:VCALENDAR
VERSION:2.0
BEGIN:VEVENT
DTSTART;TZID=US/Eastern:20220208T124500
DTEND;TZID=US/Eastern:20220208T134500
SUMMARY:Simulating Entanglement Purification and Chaos on IBM Quantum Computer -- Anastashia Jebraeilli
DESCRIPTION:CSP Lunch Seminar. 
LOCATION:Zoom Meeting
END:VEVENT
END:VCALENDAR