BEGIN:VCALENDAR
VERSION:2.0
BEGIN:VEVENT
DTSTART;TZID=US/Eastern:20220203T155500
DTEND;TZID=US/Eastern:20220203T165500
SUMMARY:Self-Organization of Lifelike Behaviors -- Dr. Jeremy England
DESCRIPTION:Departmental Colloquium. 
LOCATION:Zoom Meeting
END:VEVENT
END:VCALENDAR