BEGIN:VCALENDAR
VERSION:2.0
BEGIN:VEVENT
DTSTART;TZID=US/Eastern:20220201T124500
DTEND;TZID=US/Eastern:20220201T134500
SUMMARY:Numerical Integration with Wang-Landau Sampling -- Prof. David Landau
DESCRIPTION:CSP Lunch Seminar. 
LOCATION:Zoom Meeting
END:VEVENT
END:VCALENDAR