BEGIN:VCALENDAR
VERSION:2.0
BEGIN:VEVENT
DTSTART;TZID=US/Eastern:20220125T124500
DTEND;TZID=US/Eastern:20220125T134500
SUMMARY:Higher-order phase transitions in the two-dimentional Ising model -- Kedkanok Sitarachu
DESCRIPTION:CSP Lunch Seminar. 
LOCATION:Zoom Meeting
END:VEVENT
END:VCALENDAR