BEGIN:VCALENDAR
VERSION:2.0
BEGIN:VEVENT
DTSTART;TZID=US/Eastern:20220118T124500
DTEND;TZID=US/Eastern:20220118T134500
SUMMARY:Computational Studies Of Nanoparticles Interactions With Biomembranes -- Mohamed Laradji
DESCRIPTION:CSP Lunch Seminar. 
LOCATION:Zoom Meeting
END:VEVENT
END:VCALENDAR