BEGIN:VCALENDAR
VERSION:2.0
BEGIN:VEVENT
DTSTART;TZID=US/Eastern:20211130T124500
DTEND;TZID=US/Eastern:20211130T134500
SUMMARY:TBD -- Simon Wittigschlager
DESCRIPTION:CSP Lunch Seminar. 
LOCATION:Zoom Meeting
END:VEVENT
END:VCALENDAR