BEGIN:VCALENDAR
VERSION:2.0
BEGIN:VEVENT
DTSTART;TZID=US/Eastern:20211210T140000
DTEND;TZID=US/Eastern:20211210T150000
SUMMARY:Introduction to the Physics and Astronomy Graduate Program -- 
DESCRIPTION:Meeting. This is a zoom meeting for undergraduate students who may be interested in our graduate program. We intend to provide information about our program (physics and astronomy) to attract potential candidates. The graduate degrees we offer are: PhD, MS (with thesis), and MS-NT (with non-thesis).
LOCATION:Zoom Meeting
END:VEVENT
END:VCALENDAR