BEGIN:VCALENDAR
VERSION:2.0
BEGIN:VEVENT
DTSTART;TZID=US/Eastern:20211109T124500
DTEND;TZID=US/Eastern:20211109T134500
SUMMARY:Replica-Exchange Wang-Landau Simulations of Lattice Model Proteins and Peptides -- Matthew Wilson
DESCRIPTION:CSP Lunch Seminar. 
LOCATION:Zoom Meeting
END:VEVENT
END:VCALENDAR