BEGIN:VCALENDAR
VERSION:2.0
BEGIN:VEVENT
DTSTART;TZID=US/Eastern:20211019T124500
DTEND;TZID=US/Eastern:20211019T134500
SUMMARY:Markers of Chaotic Locomotion in Swimming C. elegans -- Susannah Zhang
DESCRIPTION:CSP Lunch Seminar. 
LOCATION:Zoom Meeting
END:VEVENT
END:VCALENDAR