BEGIN:VCALENDAR
VERSION:2.0
BEGIN:VEVENT
DTSTART;TZID=US/Eastern:20211005T124500
DTEND;TZID=US/Eastern:20211005T134500
SUMMARY:3D Radiative transfer & Phoenix/3D -- Peter Hauschildt
DESCRIPTION:CSP Lunch Seminar. 
LOCATION:Zoom Meeting
END:VEVENT
END:VCALENDAR