BEGIN:VCALENDAR
VERSION:2.0
BEGIN:VEVENT
DTSTART;TZID=US/Eastern:20211001T102000
DTEND;TZID=US/Eastern:20211001T112000
SUMMARY:Millimeter/submillimeter spectroscopic detection of desorbed ices -- Stephanie Milam
DESCRIPTION:Special Colloquium. 
LOCATION:Room 322, Zoom Meeting
END:VEVENT
END:VCALENDAR