BEGIN:VCALENDAR
VERSION:2.0
BEGIN:VEVENT
DTSTART;TZID=US/Eastern:20210916T155500
DTEND;TZID=US/Eastern:20210916T165500
SUMMARY:Research Grant Proposals Reviewers Dynamics -- Prof. Burtrand I. Lee, PhD., FACerS
DESCRIPTION:Departmental Colloquium. As we all are concerned with maintaining stable research support, we seek the best strategy for winning competitive research grants. It becomes imperative to better understand the evaluation process. While in the midst of the ever-increasing competition, the most popular evaluation means is peer review. Such basic questions as how the peer review is carried out, how the reviewers selected, what do the reviewers think when they encounter a research grant proposal to review, and what they like/don&rsquo;t like are some of the questions that will be discussed. Other pertinent questions are expected to come from the listeners and participants.
LOCATION:Zoom Meeting
END:VEVENT
END:VCALENDAR