BEGIN:VCALENDAR
VERSION:2.0
BEGIN:VEVENT
DTSTART;TZID=US/Eastern:20210914T124500
DTEND;TZID=US/Eastern:20210914T134500
SUMMARY:Monte Carlo Simulations of Long HP Lattice Protein Sequences -- Dr. Alfred Farris
DESCRIPTION:CSP Lunch Seminar. 
LOCATION:Zoom Meeting
END:VEVENT
END:VCALENDAR