BEGIN:VCALENDAR
VERSION:2.0
BEGIN:VEVENT
DTSTART;TZID=US/Eastern:20210907T124500
DTEND;TZID=US/Eastern:20210907T134500
SUMMARY:Advanced Sapelo2 Training: OpenMP/MPI, OpenACC code Compilation, and more -- Zhuofei Hou
DESCRIPTION:CSP Lunch Seminar. 
LOCATION:Zoom Meeting
END:VEVENT
END:VCALENDAR