BEGIN:VCALENDAR
VERSION:2.0
BEGIN:VEVENT
DTSTART;TZID=US/Eastern:20210824T124500
DTEND;TZID=US/Eastern:20210824T134500
SUMMARY:Introduction to Available Computing Resourses: CSP & GACRC -- Mike Caplinger and Shan-Ho Tsai
DESCRIPTION:CSP Lunch Seminar. 
LOCATION:Zoom Meeting
END:VEVENT
END:VCALENDAR