BEGIN:VCALENDAR
VERSION:2.0
BEGIN:VEVENT
DTSTART;TZID=US/Eastern:20210420T124500
DTEND;TZID=US/Eastern:20210420T134500
SUMMARY:Course-Graining Out of Equilibrium -- Tanja Schillin
DESCRIPTION:CSP Lunch Seminar. 
LOCATION:Zoom Meeting
END:VEVENT
END:VCALENDAR