BEGIN:VCALENDAR
VERSION:2.0
BEGIN:VEVENT
DTSTART;TZID=US/Eastern:20210406T124500
DTEND;TZID=US/Eastern:20210406T134500
SUMMARY:Isomer Enumeration Using Quantum Computers -- Jason Terry
DESCRIPTION:CSP Lunch Seminar. 
LOCATION:Zoom Meeting
END:VEVENT
END:VCALENDAR