BEGIN:VCALENDAR
VERSION:2.0
BEGIN:VEVENT
DTSTART;TZID=US/Eastern:20210309T124500
DTEND;TZID=US/Eastern:20210309T134500
SUMMARY:Advances in Gas and Dust Numerical Methods and Their Applications to Ring-Shepherding by Planets -- Jeffrey Fung
DESCRIPTION:CSP Lunch Seminar. 
LOCATION:Zoom Meeting
END:VEVENT
END:VCALENDAR