BEGIN:VCALENDAR
VERSION:2.0
BEGIN:VEVENT
DTSTART;TZID=US/Eastern:20210204T155500
DTEND;TZID=US/Eastern:20210204T165500
SUMMARY:Electron - electron Correlations, Making & Breaking Chemical Bonds -- Dr. Daniel Strasser
DESCRIPTION:Departmental Colloquium. I will describe our recent progress in the combined experimental and theoretical study of single-photon double-ionization process and the Coulomb explosion dynamics that it triggers in small molecules. In particular, I will describe the roaming H2 dynamics and formation of the H3+ cation and demonstrate how molecular dynamics measurements help identify the spin-correlation of the electron-pair, ejected in single-photon double-ionization of methanol.
LOCATION:Zoom Meeting
END:VEVENT
END:VCALENDAR