BEGIN:VCALENDAR
VERSION:2.0
BEGIN:VEVENT
DTSTART;TZID=US/Eastern:20210121T155500
DTEND;TZID=US/Eastern:20210121T165500
SUMMARY:Listening to the ultrafast chat of two excited electrons — and asking them some quick physics questions -- Prof. Dr. Thomas Pfeifer
DESCRIPTION:Departmental Colloquium. The matter we see around us consists of atoms with attached electrons, pairwise &ldquo;glueing&rdquo; atoms together in molecules, and giving objects their color by resonantly interacting with light. This talk starts out with how the strong electric fields of intense pulsed lasers can probe and modify the electron pair within the helium atom. Our experiments reveal a time-domain picture of absorption with a link between a laser- controllable phase and the Fano resonance. The same general physics mechanism currently unlocks new science areas ranging from laser- driven large solution-phase molecular dynamics to precision spectroscopy with hard-x-ray light.
LOCATION:Zoom Meeting
END:VEVENT
END:VCALENDAR