BEGIN:VCALENDAR
VERSION:2.0
BEGIN:VEVENT
DTSTART;TZID=US/Eastern:20201201T124500
DTEND;TZID=US/Eastern:20201201T134500
SUMMARY:Simulating Astrophysical Dust -- Guillaume Laibe
DESCRIPTION:CSP Lunch Seminar. Abstract: Simulating dust evolution is of most interest in astrophysics, since recent observations indicate that solids can strongly decouple from the surrounding interstellar gas. However, treating solid grains provides several challenges related to resolution in time and space or over-clumping. I will present strategies and algorithms designed to overcome these difficulties, and illustrate their efficiency on some real astrophysical objects.
LOCATION:Zoom Meeting
END:VEVENT
END:VCALENDAR