BEGIN:VCALENDAR
VERSION:2.0
BEGIN:VEVENT
DTSTART;TZID=US/Eastern:20201117T124500
DTEND;TZID=US/Eastern:20201117T134500
SUMMARY:Proof-of-Stake in Quantum Networks Using GHZ-States -- William Rittmeyer
DESCRIPTION:CSP Lunch Seminar. 
LOCATION:Zoom Meeting
END:VEVENT
END:VCALENDAR