BEGIN:VCALENDAR
VERSION:2.0
BEGIN:VEVENT
DTSTART;TZID=US/Eastern:20201110T124500
DTEND;TZID=US/Eastern:20201110T134500
SUMMARY:Comparison of Conformational Phase Behavior for Flexible and Semiflexible Polymers -- Dilimulati Aierken
DESCRIPTION:CSP Lunch Seminar. 
LOCATION:Zoom Meeting
END:VEVENT
END:VCALENDAR