BEGIN:VCALENDAR
VERSION:2.0
BEGIN:VEVENT
DTSTART;TZID=US/Eastern:20201112T155500
DTEND;TZID=US/Eastern:20201112T165500
SUMMARY:Quantum Turbulent Structure in Light -- Prof. Mark Siemens
DESCRIPTION:Departmental Colloquium. A random superposition of plane waves is known to be threaded with vortex line singularities which form complicated tangles and obey strict topological rules. In this work, we use both numerical simulations of random waves and experiments on laser speckle to observe and characterize the dynamics of the vortex tangles. We find that the velocity statistics of the vortices in random waves match those of turbulent quantum fluids such as superfluid helium and atomic Bose- Einstein condensates (Physical Review Letters 122, 044301 2019). These statistics are shown to be independent of system scale. These results raise deep questions about the role of nonlinearity in the structure of turbulence and the general nature of quantum chaos.
LOCATION:Zoom Meeting
END:VEVENT
END:VCALENDAR