BEGIN:VCALENDAR
VERSION:2.0
BEGIN:VEVENT
DTSTART;TZID=US/Eastern:20201027T124500
DTEND;TZID=US/Eastern:20201027T134500
SUMMARY:Drift and Diffusion in Aggregating Bacterial Populations -- Kellan Gibson
DESCRIPTION:CSP Lunch Seminar. Join Zoom Meeting: https://zoom.us/j/96665749477
LOCATION:Zoom Meeting https://zoom.us/j/96665749477
END:VEVENT
END:VCALENDAR