BEGIN:VCALENDAR
VERSION:2.0
BEGIN:VEVENT
DTSTART;TZID=US/Eastern:20201006T124500
DTEND;TZID=US/Eastern:20201006T134500
SUMMARY:Development and Assessment of a Quantum Genomic Classifier -- Stefan Bekiranov
DESCRIPTION:CSP Lunch Seminar. 

Join Zoom Meeting




https://zoom.us/j/96665749477
 
Meeting ID: 966 6574 9477
One tap mobile
+16465588656,,96665749477# US (New York)
+13017158592,,96665749477# US (Germantown)
 
Dial by your location
        +1 646 558 8656 US (New York)
        +1 301 715 8592 US (Germantown)
        +1 312 626 6799 US (Chicago)
        +1 669 900 9128 US (San Jose)
        +1 253 215 8782 US (Tacoma)
        +1 346 248 7799 US (Houston)
Meeting ID: 966 6574 9477
Find your local number: https://zoom.us/u/abxR21u1gX
 
Join by SIP
96665749477@zoomcrc.com
 
Join by H.323
162.255.37.11 (US West)
162.255.36.11 (US East)
115.114.131.7 (India Mumbai)
115.114.115.7 (India Hyderabad)
213.19.144.110 (Amsterdam Netherlands)
213.244.140.110 (Germany)
103.122.166.55 (Australia)
149.137.40.110 (Singapore)
64.211.144.160 (Brazil)
69.174.57.160 (Canada)
207.226.132.110 (Japan)


Meeting ID: 966 6574 9477
LOCATION:Zoom Meeting https://zoom.us/j/96665749477
END:VEVENT
END:VCALENDAR