BEGIN:VCALENDAR
VERSION:2.0
BEGIN:VEVENT
DTSTART;TZID=US/Eastern:20200929T124500
DTEND;TZID=US/Eastern:20200929T134500
SUMMARY:Accelerated Molecular Dynamics: Parallel Trajectory Splicing for the Exascale -- Andrew Garmon
DESCRIPTION:CSP Lunch Seminar. Join Zoom Meeting: https://zoom.us/j/96665749477
LOCATION:Zoom Meeting https://zoom.us/j/96665749477
END:VEVENT
END:VCALENDAR