BEGIN:VCALENDAR
VERSION:2.0
BEGIN:VEVENT
DTSTART;TZID=US/Eastern:20200922T124500
DTEND;TZID=US/Eastern:20200922T134500
SUMMARY:Thermodynamics of Benchmark HP Model Protein Sequences on the Face-Centered Cubic Lattice - Part II -- Matthew Wilson
DESCRIPTION:CSP Lunch Seminar. Join Zoom Meeting
https://zoom.us/j/96665749477
Meeting ID: 966 6574 9477
LOCATION:Zoom Meeting https://zoom.us/j/96665749477
END:VEVENT
END:VCALENDAR